BEGIN:VCALENDAR
VERSION:2.0
PRODID:-//岐阜県博物館ウェブサイト - ECPv5.16.3//NONSGML v1.0//EN
CALSCALE:GREGORIAN
METHOD:PUBLISH
X-WR-CALNAME:岐阜県博物館ウェブサイト
X-ORIGINAL-URL:https://www.gifu-kenpaku.jp
X-WR-CALDESC:岐阜県博物館ウェブサイト のイベント
BEGIN:VTIMEZONE
TZID:Asia/Tokyo
BEGIN:STANDARD
TZOFFSETFROM:+0900
TZOFFSETTO:+0900
TZNAME:JST
DTSTART:20220101T000000
END:STANDARD
END:VTIMEZONE
BEGIN:VEVENT
DTSTART;TZID=Asia/Tokyo:20220116T103000
DTEND;TZID=Asia/Tokyo:20220116T113000
DTSTAMP:20260425T215444
CREATED:20211201T065038Z
LAST-MODIFIED:20211217T012756Z
UID:10556-1642329000-1642332600@www.gifu-kenpaku.jp
SUMMARY:けんぱく教室「収蔵庫探検3－自然史標本の役割を知る－」午前の部
DESCRIPTION:本講座では、自然史標本が博物館の展示以外で、どのような役割を果たしているのか、普段、見学できない収蔵庫で、学芸員の説明を聞きながら学びます。 \n※事前申込みが必要な催し物の申込みについて、受け付け開始を開催日の１か月前からとしております。 \n※コロナウイルス感染拡大の状況次第では、本イベントを急遽中止とさせていただく場合があります。
URL:https://www.gifu-kenpaku.jp/event/03057%e2%80%901/
CATEGORIES:けんぱく教室,家族向け催し物
END:VEVENT
BEGIN:VEVENT
DTSTART;TZID=Asia/Tokyo:20220116T133000
DTEND;TZID=Asia/Tokyo:20220116T143000
DTSTAMP:20260425T215444
CREATED:20211201T065233Z
LAST-MODIFIED:20220115T043447Z
UID:10555-1642339800-1642343400@www.gifu-kenpaku.jp
SUMMARY:けんぱく教室「収蔵庫探検3－自然史標本の役割を知る－」午後の部
DESCRIPTION:本講座では、自然史標本が博物館の展示以外で、どのような役割を果たしているのか、普段、見学できない収蔵庫で、学芸員の説明を聞きながら学びます。 \n※事前申込みが必要な催し物の申込みについて、受け付け開始を開催日の１か月前からとしております。 \n※コロナウイルス感染拡大の状況次第では、本イベントを急遽中止とさせていただく場合があります。
URL:https://www.gifu-kenpaku.jp/event/03057-2/
CATEGORIES:けんぱく教室,家族向け催し物
END:VEVENT
END:VCALENDAR